BEGIN:VCALENDAR
VERSION:2.0
PRODID:-//Jugendberufsagentur Koblenz - ECPv6.15.20//NONSGML v1.0//EN
CALSCALE:GREGORIAN
METHOD:PUBLISH
X-ORIGINAL-URL:https://www.jugendberufsagentur-koblenz.de
X-WR-CALDESC:Veranstaltungen für Jugendberufsagentur Koblenz
REFRESH-INTERVAL;VALUE=DURATION:PT1H
X-Robots-Tag:noindex
X-PUBLISHED-TTL:PT1H
BEGIN:VTIMEZONE
TZID:UTC
BEGIN:STANDARD
TZOFFSETFROM:+0000
TZOFFSETTO:+0000
TZNAME:UTC
DTSTART:20230101T000000
END:STANDARD
END:VTIMEZONE
BEGIN:VEVENT
DTSTART;TZID=UTC:20260401T170000
DTEND;TZID=UTC:20260401T190000
DTSTAMP:20260425T113529
CREATED:20260127T104858Z
LAST-MODIFIED:20260127T104901Z
UID:1384-1775062800-1775070000@www.jugendberufsagentur-koblenz.de
SUMMARY:Digitale Elternabende: Möglichkeiten nach Fachhochschulreife und Abitur
DESCRIPTION:Eltern und Interessierte erhalten einen Überblick über Wege und Möglichkeiten nach Fachhochschulreife oder Abitur. Die Teilnahme ist kostenlos\, eine Anmeldung ist nicht erforderlich. \n\n\n\nLink zur Teilnahme via MS Teams: Jetzt an der Besprechung teilnehmen
URL:https://www.jugendberufsagentur-koblenz.de/event/digitale-elternabende-moeglichkeiten-nach-fachhochschulreife-und-abitur/
END:VEVENT
BEGIN:VEVENT
DTSTART;TZID=UTC:20260323T170000
DTEND;TZID=UTC:20260323T190000
DTSTAMP:20260425T113529
CREATED:20260127T104555Z
LAST-MODIFIED:20260127T104558Z
UID:1382-1774285200-1774292400@www.jugendberufsagentur-koblenz.de
SUMMARY:Digitale Elternabende: Bewerbung um einen Ausbildungsplatz
DESCRIPTION:Wie sehen Bewerbungen um einen Ausbildungsplatz im Jahr 2026 aus? Eltern und Ausbildungsinteressierte erhalten nützliche Tipps und Tricks in einer MS-Teams-Veranstaltung. Die Teilnahme ist kostenlos\, eine Anmeldung ist nicht erforderlich.  \n\n\n\nTeilnahmelink: Jetzt an der Besprechung teilnehmen
URL:https://www.jugendberufsagentur-koblenz.de/event/digitale-elternabende-bewerbung-um-einen-ausbildungsplatz/
END:VEVENT
BEGIN:VEVENT
DTSTART;TZID=UTC:20260126T170000
DTEND;TZID=UTC:20260126T190000
DTSTAMP:20260425T113529
CREATED:20251219T093009Z
LAST-MODIFIED:20251219T093011Z
UID:1378-1769446800-1769454000@www.jugendberufsagentur-koblenz.de
SUMMARY:Digitale Elternabende: Wege nach der Ausbildung
DESCRIPTION:Eltern und Interessierte erhalten Informationen zu Wegen und Möglichkeiten nach dem Ausbildungsabschluss. \n\n\n\nDie Veranstaltung findet per MS Teams statt. Eine Anmeldung ist nicht erforderlich\, die Teilnahme ist kostenlos. \n\n\n\nJetzt an der Besprechung teilnehmen.
URL:https://www.jugendberufsagentur-koblenz.de/event/digitale-elternabende-wege-nach-der-ausbildung/
END:VEVENT
BEGIN:VEVENT
DTSTART;TZID=UTC:20260112T170000
DTEND;TZID=UTC:20260112T190000
DTSTAMP:20260425T113529
CREATED:20251219T092723Z
LAST-MODIFIED:20251219T092725Z
UID:1376-1768237200-1768244400@www.jugendberufsagentur-koblenz.de
SUMMARY:Digitale Elternabende: Wege nach der Schule
DESCRIPTION:„Welche Wege kann ich meinem Kind nach der Schule aufzeigen? oder… Wer wird (schon) Millionär?“  \n\n\n\nEltern / Interessierte werden über die Themen des weiterführenden Schulbesuches\, Unterstützung bei der Ausbildungs- und Studienwahl\, sowie Überbrückungsmöglichkeiten usw. informiert. \n\n\n\nDie Teilnehmer erhalten hierzu Tipps und Strategieansätze zur selbständigen Recherche sowie den unterstützenden Kontakt der Berufsberatung. \n\n\n\nDie Veranstaltung findet per MS Teams statt. Die Teilnahme ist kostenlos\, eine Anmeldung ist nicht erforderlich.  \n\n\n\nEinwahllink:  \n\n\n\nJetzt an der Besprechung teilnehmenJetzt an der Besprechung teilnehmen.
URL:https://www.jugendberufsagentur-koblenz.de/event/digitale-elternabende-wege-nach-der-schule/
END:VEVENT
BEGIN:VEVENT
DTSTART;TZID=UTC:20251215T170000
DTEND;TZID=UTC:20251215T183000
DTSTAMP:20260425T113529
CREATED:20250320T123629Z
LAST-MODIFIED:20250404T071200Z
UID:1328-1765818000-1765823400@www.jugendberufsagentur-koblenz.de
SUMMARY:Das Ende der Ausbildung naht - wie geht es weiter?
DESCRIPTION:Ihr Kind steht kurz vor Abschluss der Ausbildung und nun überlegen Sie wie es imAnschluss weitergehen kann?Ausland\, Aufstieg\, wieder zurück zur Schule – über diese Möglichkeiten und weitereThemen\, die nach Abschluss der Ausbildung wichtig sein können\, informieren wir indieser Veranstaltung.
URL:https://www.jugendberufsagentur-koblenz.de/event/das-ende-der-ausbildung-naht-wie-geht-es-weiter-5/
END:VEVENT
BEGIN:VEVENT
DTSTART;TZID=UTC:20251119T170000
DTEND;TZID=UTC:20251119T183000
DTSTAMP:20260425T113529
CREATED:20250320T123421Z
LAST-MODIFIED:20250404T070704Z
UID:1326-1763571600-1763577000@www.jugendberufsagentur-koblenz.de
SUMMARY:Gut Ding will Weile haben - Auszeit nach dem Abi oder der Fachhochschulreife
DESCRIPTION:Ihr Kind hat das Abitur oder die Fachhochschulreife in der Tasche und hat sich für eine Auszeit bis zum Einstige in Ausbildung oder Studium entschieden? Es gibt gute Gründe\, sich nicht gleich nahtlos in den Ernst des Lebens zu stürzen! Wir zeigen Ihnen Möglichkeiten\, wie Ihr Kind diese Übergangszeit im In- und Ausland sinnvoll gestalten kann. 
URL:https://www.jugendberufsagentur-koblenz.de/event/gut-ding-will-weile-haben-auszeit-nach-dem-abi-oder-der-fachhochschulreife-4/
END:VEVENT
BEGIN:VEVENT
DTSTART;TZID=UTC:20251020T170000
DTEND;TZID=UTC:20251020T183000
DTSTAMP:20260425T113529
CREATED:20250304T114146Z
LAST-MODIFIED:20250606T061108Z
UID:1300-1760979600-1760985000@www.jugendberufsagentur-koblenz.de
SUMMARY:BeWERBUNG um einen Ausbildungsplatz - aber wie?
DESCRIPTION:Sie möchten Ihr Kind bei der Suche nach einem Ausbildungsplatz unterstützen?  \n\n\n\nAber wie sieht eine moderne Bewerbung aktuell aus?  \n\n\n\nWelche Informationen sind für eine Bewerbung wichtig?  \n\n\n\nWas ist beim Schreiben einer Bewerbung zu beachten?  \n\n\n\nWie sind Anschreiben\, Lebenslauf zu gestalten?  \n\n\n\nWas ist bei E-Mail und Online-Bewerbungen zu beachten? \n\n\n\nFragen über Fragen\, die wir in dieser Veranstaltung beantworten wollen.
URL:https://www.jugendberufsagentur-koblenz.de/event/bewerbung-um-einen-ausbildungsplatz-aber-wie-5/
END:VEVENT
BEGIN:VEVENT
DTSTART;TZID=UTC:20251015T170000
DTEND;TZID=UTC:20251015T183000
DTSTAMP:20260425T113529
CREATED:20250320T123055Z
LAST-MODIFIED:20250404T070534Z
UID:1322-1760547600-1760553000@www.jugendberufsagentur-koblenz.de
SUMMARY:Möglichkeiten nach Fachhochschulreife und Abitur
DESCRIPTION:Ihr Kind hat das Abitur oder die Fachhochschulreife in der Tasche und Sie möchten es in seiner Berufs- und Studienwahl unterstützen?! Ihre eigene Ausbildung liegt bereits länger zurück und es fehlt Ihnen ein Überblick über die aktuellen Möglichkeiten? Wir zeigen Sie Ihnen!
URL:https://www.jugendberufsagentur-koblenz.de/event/moeglichkeiten-nach-fachhochschulreife-und-abitur/
END:VEVENT
BEGIN:VEVENT
DTSTART;TZID=UTC:20251006T170000
DTEND;TZID=UTC:20251006T183000
DTSTAMP:20260425T113529
CREATED:20250320T123233Z
LAST-MODIFIED:20250404T071314Z
UID:1324-1759770000-1759775400@www.jugendberufsagentur-koblenz.de
SUMMARY:Zweifel in der Ausbildung - (K)Ein Tabu-Thema
DESCRIPTION:Bei ihrem Kind gibt es vielleicht Probleme in der Berufsschule oder die Stimmung imBetrieb ist schlecht?! Vielleicht wird auch gerade die ganze Berufswahl in Fragegestellt? Es ist immer gut\, darüber zu sprechen!Wir möchten in dieser Veranstaltung Wege und Möglichkeiten aufzeigen\, damit eineLösung gefunden werden kann.
URL:https://www.jugendberufsagentur-koblenz.de/event/zweifel-in-der-ausbildung-kein-tabu-thema-3/
END:VEVENT
BEGIN:VEVENT
DTSTART;TZID=UTC:20250918T170000
DTEND;TZID=UTC:20250918T190000
DTSTAMP:20260425T113529
CREATED:20250708T051603Z
LAST-MODIFIED:20250708T051605Z
UID:1361-1758214800-1758222000@www.jugendberufsagentur-koblenz.de
SUMMARY:Azubispots - Auf den letzten Drücker
DESCRIPTION:Azubispots – Auf den letzten DrückerDeine Chance auf einen Ausbildungsplatz – auch jetzt noch! \n\n\n\nDu hast noch keinen Ausbildungsvertrag in der Tasche? Oder dein Betrieb sucht spontan noch Azubis? Dann ist „Azubispots – Auf den letzten Drücker“ genau das Richtige für dich! \n\n\n\nHier triffst du ohne großen Aufwand auf echte Chancen – direkt\, unkompliziert und persönlich. \n\n\n\nTermin & Ort:Donnerstag\, 18. September\, 17 – 19 Uhr – Jugendberufsagentur Koblenz \n\n\n\nWas dich erwartet:Kleine\, ausgewählte Runde an Betrieben\, die jetzt noch Azubis suchenDirekter Kontakt ohne BewerbungsstressSchnelle Wege – hier wird nicht lange gefackeltUnterstützung & Beratung ganz easy vor Ort \n\n\n\nFür Jugendliche: Komm einfach vorbei – ganz ohne Anmeldung. Hier zählt\, dass du motiviert bist.Für Betriebe: Trefft junge Menschen auf Augenhöhe – ganz ohne Umwege. \n\n\n\nAzubispots – Auf den letzten Drücker bringt euch unkompliziert zusammen – für alle\, die noch kurzfristig ins Ausbildungsjahr starten wollen!
URL:https://www.jugendberufsagentur-koblenz.de/event/azubispots-auf-den-letzten-druecker-5/
END:VEVENT
BEGIN:VEVENT
DTSTART;TZID=UTC:20250815T140000
DTEND;TZID=UTC:20250815T170000
DTSTAMP:20260425T113529
CREATED:20250708T051437Z
LAST-MODIFIED:20250708T051514Z
UID:1358-1755266400-1755277200@www.jugendberufsagentur-koblenz.de
SUMMARY:Azubispots - Auf den letzten Drücker
DESCRIPTION:Azubispots – Auf den letzten DrückerDeine Chance auf einen Ausbildungsplatz – auch jetzt noch! \n\n\n\nDu hast noch keinen Ausbildungsvertrag in der Tasche? Oder dein Betrieb sucht spontan noch Azubis? Dann ist „Azubispots – Auf den letzten Drücker“ genau das Richtige für dich! \n\n\n\nHier triffst du ohne großen Aufwand auf echte Chancen – direkt\, unkompliziert und persönlich. \n\n\n\nTermin & Ort:Freitag\, 15. August\, 14 – 17 Uhr – Ahr-Akademie der HwK Koblenz in Ahrweiler \n\n\n\nWas dich erwartet:Kleine\, ausgewählte Runde an Betrieben\, die jetzt noch Azubis suchenDirekter Kontakt ohne BewerbungsstressSchnelle Wege – hier wird nicht lange gefackeltUnterstützung & Beratung ganz easy vor Ort \n\n\n\nFür Jugendliche: Komm einfach vorbei – ganz ohne Anmeldung. Hier zählt\, dass du motiviert bist.Für Betriebe: Trefft junge Menschen auf Augenhöhe – ganz ohne Umwege. \n\n\n\nAzubispots – Auf den letzten Drücker bringt euch unkompliziert zusammen – für alle\, die noch kurzfristig ins Ausbildungsjahr starten wollen!
URL:https://www.jugendberufsagentur-koblenz.de/event/azubispots-auf-den-letzten-druecker-4/
END:VEVENT
BEGIN:VEVENT
DTSTART;TZID=UTC:20250807T170000
DTEND;TZID=UTC:20250807T190000
DTSTAMP:20260425T113529
CREATED:20250708T051318Z
LAST-MODIFIED:20250708T051321Z
UID:1356-1754586000-1754593200@www.jugendberufsagentur-koblenz.de
SUMMARY:Azubispots - Auf den letzten Drücker
DESCRIPTION:Azubispots – Auf den letzten DrückerDeine Chance auf einen Ausbildungsplatz – auch jetzt noch! \n\n\n\nDu hast noch keinen Ausbildungsvertrag in der Tasche? Oder dein Betrieb sucht spontan noch Azubis? Dann ist „Azubispots – Auf den letzten Drücker“ genau das Richtige für dich! \n\n\n\nHier triffst du ohne großen Aufwand auf echte Chancen – direkt\, unkompliziert und persönlich. \n\n\n\nTermin & Ort:Donnerstag\, 07. August  17 – 19 Uhr – Jugendberufsagentur Koblenz \n\n\n\nWas dich erwartet:Kleine\, ausgewählte Runde an Betrieben\, die jetzt noch Azubis suchenDirekter Kontakt ohne BewerbungsstressSchnelle Wege – hier wird nicht lange gefackeltUnterstützung & Beratung ganz easy vor Ort \n\n\n\nFür Jugendliche: Komm einfach vorbei – ganz ohne Anmeldung. Hier zählt\, dass du motiviert bist.Für Betriebe: Trefft junge Menschen auf Augenhöhe – ganz ohne Umwege. \n\n\n\nAzubispots – Auf den letzten Drücker bringt euch unkompliziert zusammen – für alle\, die noch kurzfristig ins Ausbildungsjahr starten wollen!
URL:https://www.jugendberufsagentur-koblenz.de/event/azubispots-auf-den-letzten-druecker-3/
END:VEVENT
BEGIN:VEVENT
DTSTART;TZID=UTC:20250710T140000
DTEND;TZID=UTC:20250710T180000
DTSTAMP:20260425T113529
CREATED:20250620T061136Z
LAST-MODIFIED:20250708T051050Z
UID:1351-1752156000-1752170400@www.jugendberufsagentur-koblenz.de
SUMMARY:AzubispoRts - Basketball
DESCRIPTION:AzubispoRts – Basketball-Action am Donnerstag\, 10.07. in Koblenz! \n\n\n\nDu hast Bock auf Basketball\, coole Challenges und starke Gewinne? Dann komm am Donnerstag\, den 10. Juli\, von 14 bis 18 Uhr auf den Zentralplatz in Koblenz – bei den AzubispoRts – Basketball geht richtig was! \n\n\n\nTeste dein Können am Freiwurfautomaten – Wie viele Treffer schaffst du?Mach mit bei der Korbleger-Challenge – Zeig\, was du drauf hast!Und das Beste: Es gibt was zu gewinnen! Nimm an unserer Verlosung teil und mit etwas Glück gehört dir einer von zwei Ring-Taxi-Gutscheinen für eine rasante Fahrt auf dem Nürburgring!  \n\n\n\nNebenbei kannst du dich ganz locker über Berufe\, Ausbildungen und Karrierechancen informieren – ohne Stress\, dafür mit vielen Aha-Momenten. \n\n\n\nWo? Zentralplatz KoblenzWann? Donnerstag\, 10.07.\, 14–18 Uhr \n\n\n\nAlso: Komm vorbei\, bring deine Crew mit und hol dir Sport\, Spaß und vielleicht sogar deinen nächsten Karriereschritt auf einmal! 
URL:https://www.jugendberufsagentur-koblenz.de/event/azubisports-basketball/
END:VEVENT
BEGIN:VEVENT
DTSTART;TZID=UTC:20250618T090000
DTEND;TZID=UTC:20250618T163000
DTSTAMP:20260425T113529
CREATED:20240822T120623Z
LAST-MODIFIED:20250109T101823Z
UID:1243-1750237200-1750264200@www.jugendberufsagentur-koblenz.de
SUMMARY:AzubiSpots am Deutschen Eck
DESCRIPTION:Du suchst eine Ausbildungsstelle? Ein Praktikum? oder möchtest einfach mal schauen\, welche Ausbildungsberufe es so gibt. Bei den AzubiSpots stellen 120 Unternehmen aus der Region sich und ihre Ausbildungsmöglichkeiten vor. Du kannst einfach mit ihnen ins Gespräch kommen und vielleicht sofort deine Ausbildung oder dein nächstes Praktikum klarmachen. Komm vorbei!
URL:https://www.jugendberufsagentur-koblenz.de/event/azubispots-am-deutschen-eck/
LOCATION:Deutsches Eck\, Deutsches Eck\, Koblenz
END:VEVENT
BEGIN:VEVENT
DTSTART;TZID=UTC:20250602T170000
DTEND;TZID=UTC:20250602T183000
DTSTAMP:20260425T113529
CREATED:20250320T122910Z
LAST-MODIFIED:20250320T122911Z
UID:1320-1748883600-1748889000@www.jugendberufsagentur-koblenz.de
SUMMARY:Kein Schulplatz? Keine Ausbildung? Was nun?
DESCRIPTION:
URL:https://www.jugendberufsagentur-koblenz.de/event/kein-schulplatz-keine-ausbildung-was-nun-2/
END:VEVENT
BEGIN:VEVENT
DTSTART;TZID=UTC:20250526T170000
DTEND;TZID=UTC:20250526T183000
DTSTAMP:20260425T113529
CREATED:20250320T122659Z
LAST-MODIFIED:20250320T122701Z
UID:1317-1748278800-1748284200@www.jugendberufsagentur-koblenz.de
SUMMARY:Das Ende der Ausbildung naht - wie geht es weiter?
DESCRIPTION:Ihr Kind steht kurz vor Abschluss der Ausbildung und nun überlegen Sie wie es imAnschluss weitergehen kann?Ausland\, Aufstieg\, wieder zurück zur Schule – über diese Möglichkeiten und weitereThemen\, die nach Abschluss der Ausbildung wichtig sein können\, informieren wir indieser Veranstaltung.
URL:https://www.jugendberufsagentur-koblenz.de/event/das-ende-der-ausbildung-naht-wie-geht-es-weiter-4/
END:VEVENT
BEGIN:VEVENT
DTSTART;TZID=UTC:20250523T083000
DTEND;TZID=UTC:20250523T133000
DTSTAMP:20260425T113529
CREATED:20240822T113712Z
LAST-MODIFIED:20250520T084200Z
UID:1240-1747989000-1748007000@www.jugendberufsagentur-koblenz.de
SUMMARY:AzubiSpots im Kurpark
DESCRIPTION:Du suchst eine Ausbildungsstelle? Ein Praktikum? oder möchtest einfach mal schauen\, welche Ausbildungsberufe es so gibt. Bei den AzubiSpots stellen Unternehmen aus der Region sich und ihre Ausbildungsmöglichkeiten vor. Du kannst einfach mit ihnen ins Gespräch kommen und vielleicht sofort deine Ausbildung oder dein nächstes Praktikum klarmachen. Komm vorbei! \n\n\n\nEine Übersicht zu den teilnehmenden Ausbildungsbetrieben findest du auch unter www.azubispots.de!
URL:https://www.jugendberufsagentur-koblenz.de/event/azubispots-im-kurpark-2/
LOCATION:Kurpark Bad Neuenahr-Ahrweiler\, Kurpark\, Bad Neuenahr-Ahrweiler
END:VEVENT
BEGIN:VEVENT
DTSTART;TZID=UTC:20250507T170000
DTEND;TZID=UTC:20250507T180000
DTSTAMP:20260425T113529
CREATED:20250320T122419Z
LAST-MODIFIED:20250404T070948Z
UID:1315-1746637200-1746640800@www.jugendberufsagentur-koblenz.de
SUMMARY:Gut Ding will Weile haben - Auszeit nach dem Abi oder der Fachhochschulreife
DESCRIPTION:Ihr Kind hat das Abitur oder die Fachhochschulreife in der Tasche und hat sich für eine Auszeit bis zum Einstige in Ausbildung oder Studium entschieden? Es gibt gute Gründe\, sich nicht gleich nahtlos in den Ernst des Lebens zu stürzen! Wir zeigen Ihnen Möglichkeiten\, wie Ihr Kind diese Übergangszeit im In- und Ausland sinnvoll gestalten kann. 
URL:https://www.jugendberufsagentur-koblenz.de/event/gut-ding-will-weile-haben-auszeit-nach-dem-abi-oder-der-fachhochschulreife-3/
END:VEVENT
BEGIN:VEVENT
DTSTART;TZID=UTC:20250405T100000
DTEND;TZID=UTC:20250405T150000
DTSTAMP:20260425T113529
CREATED:20250320T122211Z
LAST-MODIFIED:20250320T122213Z
UID:1313-1743847200-1743865200@www.jugendberufsagentur-koblenz.de
SUMMARY:Azubi- und Studientag
DESCRIPTION:
URL:https://www.jugendberufsagentur-koblenz.de/event/azubi-und-studientag/
END:VEVENT
BEGIN:VEVENT
DTSTART;TZID=UTC:20250404T090000
DTEND;TZID=UTC:20250404T140000
DTSTAMP:20260425T113529
CREATED:20250320T122013Z
LAST-MODIFIED:20250320T122015Z
UID:1311-1743757200-1743775200@www.jugendberufsagentur-koblenz.de
SUMMARY:Azubi- und Studientage
DESCRIPTION:
URL:https://www.jugendberufsagentur-koblenz.de/event/azubi-und-studientage-3/
END:VEVENT
BEGIN:VEVENT
DTSTART;TZID=UTC:20250402T170000
DTEND;TZID=UTC:20250402T183000
DTSTAMP:20260425T113529
CREATED:20250320T120609Z
LAST-MODIFIED:20250320T120611Z
UID:1306-1743613200-1743618600@www.jugendberufsagentur-koblenz.de
SUMMARY:Abi - und was dann?
DESCRIPTION:Ihr Kind hat das Abitur oder die Fachhochschulreife in der Tasche und Sie möchten es in seiner Berufs- und Studienwahl unterstützen? Ihre eigene Ausbildung liegt bereits länger zurück und es fehlt Ihnen ein Überblick über die aktuellen Möglichkeiten? Wir zeigen sie Ihnen!
URL:https://www.jugendberufsagentur-koblenz.de/event/abi-und-was-dann/
END:VEVENT
BEGIN:VEVENT
DTSTART;TZID=UTC:20250328T080000
DTEND;TZID=UTC:20250328T130000
DTSTAMP:20260425T113529
CREATED:20250320T121712Z
LAST-MODIFIED:20250320T121714Z
UID:1309-1743148800-1743166800@www.jugendberufsagentur-koblenz.de
SUMMARY:Maya
DESCRIPTION:– Mit MAYA – der dritten Mayener Ausbildungs-\, Berufs- und Studienmesse an der Berufsbildenden Schule Mayen – erhalten junge Menschen am Freitag\, 28. März 2025 von 9.00 bis 14.00 Uhr die perfekte Gelegenheit\, sich über die zahlreichen Perspektiven in der Aus- und Weiterbildung sowie über Studienangebote zu informieren
URL:https://www.jugendberufsagentur-koblenz.de/event/maya/
END:VEVENT
BEGIN:VEVENT
DTSTART;TZID=UTC:20250310T170000
DTEND;TZID=UTC:20250310T183000
DTSTAMP:20260425T113529
CREATED:20250212T101438Z
LAST-MODIFIED:20250304T114446Z
UID:1290-1741626000-1741631400@www.jugendberufsagentur-koblenz.de
SUMMARY:BeWERBUNG um einen Ausbildungsplatz - aber wie?
DESCRIPTION:Sie möchten Ihr Kind bei der Suche nach einem Ausbildungsplatz unterstützen?  \n\n\n\nAber wie sieht eine moderne Bewerbung aktuell aus? \n\n\n\n Welche Informationen sind für eine Bewerbung wichtig?  \n\n\n\nWas ist beim Schreiben einer Bewerbung zu beachten?  \n\n\n\nWie sind Anschreiben\, Lebenslauf zu gestalten?  \n\n\n\nWas ist bei E-Mail und Online-Bewerbungen zu berücksichtigen?  \n\n\n\nFragen über Fragen\, die wir in dieser Online-Veranstaltung beantworten wollen.
URL:https://www.jugendberufsagentur-koblenz.de/event/bewerbung-um-einen-ausbildungsplatz-aber-wie-4/
END:VEVENT
BEGIN:VEVENT
DTSTART;TZID=UTC:20250222T090000
DTEND;TZID=UTC:20250222T140000
DTSTAMP:20260425T113529
CREATED:20250212T101244Z
LAST-MODIFIED:20250212T101246Z
UID:1288-1740214800-1740232800@www.jugendberufsagentur-koblenz.de
SUMMARY:Berufsinfomarkt 2025 - BBS Bad Neuenahr-Ahrweiler
DESCRIPTION:Weißt du schon ganz genau\, wo es beruflich hingehen soll oder noch gar nicht? So oder so bist du hier auf dem Berufsinfomarkt genau richtig. Hier erfährst du\, welche verschiedenen Wege & Chancen es schulisch und beruflich gibt.
URL:https://www.jugendberufsagentur-koblenz.de/event/berufsinfomarkt-2025-bbs-bad-neuenahr-ahrweiler/
END:VEVENT
BEGIN:VEVENT
DTSTART;TZID=UTC:20250210T000000
DTEND;TZID=UTC:20250220T235959
DTSTAMP:20260425T113529
CREATED:20241029T111848Z
LAST-MODIFIED:20241029T112404Z
UID:1266-1739145600-1740095999@www.jugendberufsagentur-koblenz.de
SUMMARY:Woche der digitalen Elternabende
DESCRIPTION:Ihr Kind steht kurz vor dem Abschluss und die Suche nach dem passenden dualen Studium oder Ausbildungsplatz steht noch an?  \n\n\n\nDie Bundesagentur für Arbeit veranstaltet vom 10. bis 20. Februar 2025 zum vierten Mal eine Woche der digitalen Elternabende. Hier wird Ihnen als Eltern und Ihren Kindern die Möglichkeit geboten\, verschiedene Unternehmen mit deren Ausbildungsmöglichkeiten in einer kompakten Stunde hautnah kennenzulernen.  \n\n\n\nSie erhalten Einblicke in: \n\n\n\n\n– die Rahmenbedingungen der Ausbildung / des dualen Studiums.\n\n\n\n– die Unternehmenskultur und Möglichkeiten für Nachwuchskräfte nach einer erfolgreichen Ausbildung / einem erfolgreichen dualen Studium im    Unternehmen. \n\n\n\n– Berichte von Azubis und dual Studierenden\, wie sie es geschafft haben\, das Bewerbungsverfahren zu bestehen und wie es ihnen während der Ausbildung/ des dualen Studiums ergeht.\n\n\n\n\n \n\n\n\nKommen Sie mit den Unternehmen ins Gespräch
URL:https://www.jugendberufsagentur-koblenz.de/event/woche-der-digitalen-elternabende/
END:VEVENT
BEGIN:VEVENT
DTSTART;TZID=UTC:20250122T170000
DTEND;TZID=UTC:20250122T170000
DTSTAMP:20260425T113529
CREATED:20240822T044031Z
LAST-MODIFIED:20240822T105548Z
UID:1220-1737565200-1737565200@www.jugendberufsagentur-koblenz.de
SUMMARY:Let´s talk – Beratung für Studienzweifler
DESCRIPTION:Bist du zufrieden mit deinem Studium? Beschäftigen dich Fragen wie: Bleiben- aber wie? Neu orientieren? \n\n\n\nMit diesen Gedanken bist du nicht alleine. Um Klarheit zu gewinnen und die nächsten Schritte vorzubereiten\, stehen wir dir unterstützend zur Seite!
URL:https://www.jugendberufsagentur-koblenz.de/event/lets-talk-workshop-fuer-studienzweifler-11/
LOCATION:Jugendberufsagentur\, Viktoriastraße 38\, Koblenz\, 56070\, Deutschland
END:VEVENT
BEGIN:VEVENT
DTSTART;TZID=UTC:20241218T170000
DTEND;TZID=UTC:20241218T170000
DTSTAMP:20260425T113529
CREATED:20240822T043905Z
LAST-MODIFIED:20240822T105618Z
UID:1217-1734541200-1734541200@www.jugendberufsagentur-koblenz.de
SUMMARY:Let´s talk – Beratung für Studienzweifler
DESCRIPTION:Bist du zufrieden mit deinem Studium? Beschäftigen dich Fragen wie: Bleiben- aber wie? Neu orientieren? \n\n\n\nMit diesen Gedanken bist du nicht alleine. Um Klarheit zu gewinnen und die nächsten Schritte vorzubereiten\, stehen wir dir unterstützend zur Seite!
URL:https://www.jugendberufsagentur-koblenz.de/event/lets-talk-workshop-fuer-studienzweifler-10/
LOCATION:Jugendberufsagentur\, Viktoriastraße 38\, Koblenz\, 56070\, Deutschland
END:VEVENT
BEGIN:VEVENT
DTSTART;TZID=UTC:20241216T170000
DTEND;TZID=UTC:20241216T190000
DTSTAMP:20260425T113529
CREATED:20241108T072529Z
LAST-MODIFIED:20241108T072607Z
UID:1278-1734368400-1734375600@www.jugendberufsagentur-koblenz.de
SUMMARY:Das Ende der Ausbildung naht - wie geht es weiter?
DESCRIPTION:Ihr Kind hat das Abitur oder die Fachhochschulreife in der Tasche und hat sich für eine Auszeit bis zum Einstige in Ausbildung oder Studium entschieden? Es gibt gute Gründe\, sich nicht gleich nahtlos in den Ernst des Lebens zu stürzen! Wir zeigen Ihnen Möglichkeiten\, wie Ihr Kind diese Übergangszeit im In- und Ausland sinnvoll gestalten kann.
URL:https://www.jugendberufsagentur-koblenz.de/event/das-ende-der-ausbildung-naht-wie-geht-es-weiter-3/
END:VEVENT
BEGIN:VEVENT
DTSTART;TZID=UTC:20241120T170000
DTEND;TZID=UTC:20241120T180000
DTSTAMP:20260425T113529
CREATED:20241030T141222Z
LAST-MODIFIED:20241031T103945Z
UID:1271-1732122000-1732125600@www.jugendberufsagentur-koblenz.de
SUMMARY:Gut Ding will Weile haben - Auszeit nach dem (Fach-)Abi
DESCRIPTION:Ihr Kind hat das Abitur oder die Fachhochschulreife in der Tasche und hat sich für eine Auszeit bis zum Einstige in Ausbildung oder Studium entschieden? Es gibt gute Gründe\, sich nicht gleich nahtlos in den Ernst des Lebens zu stürzen! Wir zeigen ihnen Möglichkeiten\, wie ihr Kind diese Übergangszeit im In- und Ausland sinnvoll gestalten kann. \n\n\n\n \n\n\n\nEs handelt sich um eine Online-Veranstaltung.
URL:https://www.jugendberufsagentur-koblenz.de/event/gut-ding-will-weile-haben-auszeit-nach-dem-fach-abi/
END:VEVENT
BEGIN:VEVENT
DTSTART;TZID=UTC:20241120T170000
DTEND;TZID=UTC:20241120T170000
DTSTAMP:20260425T113529
CREATED:20240822T043448Z
LAST-MODIFIED:20240822T105658Z
UID:1215-1732122000-1732122000@www.jugendberufsagentur-koblenz.de
SUMMARY:Let´s talk - Beratung für Studienzweifler
DESCRIPTION:Bist du zufrieden mit deinem Studium? Beschäftigen dich Fragen wie: Bleiben- aber wie? Neu orientieren? \n\n\n\nMit diesen Gedanken bist du nicht alleine. Um Klarheit zu gewinnen und die nächsten Schritte vorzubereiten\, stehen wir dir unterstützend zur Seite!
URL:https://www.jugendberufsagentur-koblenz.de/event/lets-talk-workshop-fuer-studienzweifler-9/
LOCATION:Jugendberufsagentur\, Viktoriastraße 38\, Koblenz\, 56070\, Deutschland
END:VEVENT
END:VCALENDAR